BEGIN:VCALENDAR
VERSION:2.0
PRODID:-//L2M Poker Club - ECPv6.15.20//NONSGML v1.0//EN
CALSCALE:GREGORIAN
METHOD:PUBLISH
X-WR-CALNAME:L2M Poker Club
X-ORIGINAL-URL:https://l2m-pokerclub.com
X-WR-CALDESC:Évènements pour L2M Poker Club
REFRESH-INTERVAL;VALUE=DURATION:PT1H
X-Robots-Tag:noindex
X-PUBLISHED-TTL:PT1H
BEGIN:VTIMEZONE
TZID:Europe/Paris
BEGIN:DAYLIGHT
TZOFFSETFROM:+0100
TZOFFSETTO:+0200
TZNAME:CEST
DTSTART:20250330T010000
END:DAYLIGHT
BEGIN:STANDARD
TZOFFSETFROM:+0200
TZOFFSETTO:+0100
TZNAME:CET
DTSTART:20251026T010000
END:STANDARD
BEGIN:DAYLIGHT
TZOFFSETFROM:+0100
TZOFFSETTO:+0200
TZNAME:CEST
DTSTART:20260329T010000
END:DAYLIGHT
BEGIN:STANDARD
TZOFFSETFROM:+0200
TZOFFSETTO:+0100
TZNAME:CET
DTSTART:20261025T010000
END:STANDARD
BEGIN:DAYLIGHT
TZOFFSETFROM:+0100
TZOFFSETTO:+0200
TZNAME:CEST
DTSTART:20270328T010000
END:DAYLIGHT
BEGIN:STANDARD
TZOFFSETFROM:+0200
TZOFFSETTO:+0100
TZNAME:CET
DTSTART:20271031T010000
END:STANDARD
END:VTIMEZONE
BEGIN:VEVENT
DTSTART;TZID=Europe/Paris:20260423T203000
DTEND;TZID=Europe/Paris:20260423T233000
DTSTAMP:20260422T041147
CREATED:20260323T193431Z
LAST-MODIFIED:20260323T193431Z
UID:17388-1776976200-1776987000@l2m-pokerclub.com
SUMMARY:Ligue des Clubs Saison 27 - Manche 3
DESCRIPTION:
URL:https://l2m-pokerclub.com/event/ligue-des-clubs-saison-27-manche-3/
CATEGORIES:Ligue des Clubs Winamax
END:VEVENT
BEGIN:VEVENT
DTSTART;TZID=Europe/Paris:20260424T204500
DTEND;TZID=Europe/Paris:20260424T204500
DTSTAMP:20260422T041147
CREATED:20250722T152809Z
LAST-MODIFIED:20250522T155030Z
UID:14386-1777063500-1777063500@l2m-pokerclub.com
SUMMARY:Manche 6 du championnat Live Eté 2025/2026
DESCRIPTION:Manche Win The Button sans ante
URL:https://l2m-pokerclub.com/event/manche-6-du-championnat-live-ete-2025-2026/
LOCATION:Salle des fêtes de Lacanau de Mios\, 8 avenue de Verdun\, Mios\, 33380\, France
CATEGORIES:Championnat Live
END:VEVENT
BEGIN:VEVENT
DTSTART;TZID=Europe/Paris:20260427T204500
DTEND;TZID=Europe/Paris:20260427T204500
DTSTAMP:20260422T041147
CREATED:20250522T150349Z
LAST-MODIFIED:20250522T150349Z
UID:14239-1777322700-1777322700@l2m-pokerclub.com
SUMMARY:Manche 6 - L2M Freeroll Championnat B Winamax 2025/2026
DESCRIPTION:
URL:https://l2m-pokerclub.com/event/manche-6-l2m-freeroll-championnat-b-winamax-2025-2026/
CATEGORIES:Championnat Freeroll Winamax
END:VEVENT
BEGIN:VEVENT
DTSTART;TZID=Europe/Paris:20260430T204500
DTEND;TZID=Europe/Paris:20260430T204500
DTSTAMP:20260422T041147
CREATED:20250722T152812Z
LAST-MODIFIED:20250522T155056Z
UID:14388-1777581900-1777581900@l2m-pokerclub.com
SUMMARY:Manche 7 Day 1 du championnat Live Eté 2025/2026
DESCRIPTION:Manche 2 Days avec ante
URL:https://l2m-pokerclub.com/event/manche-7-day-1-du-championnat-live-ete-2025-2026/
LOCATION:Salle des fêtes de Lacanau de Mios\, 8 avenue de Verdun\, Mios\, 33380\, France
CATEGORIES:Championnat Live
END:VEVENT
END:VCALENDAR